BEGIN:VCALENDAR
VERSION:2.0
PRODID:-//Northants Uncovered - ECPv6.15.20//NONSGML v1.0//EN
CALSCALE:GREGORIAN
METHOD:PUBLISH
X-WR-CALNAME:Northants Uncovered
X-ORIGINAL-URL:https://northantsmag.co.uk
X-WR-CALDESC:Events for Northants Uncovered
REFRESH-INTERVAL;VALUE=DURATION:PT1H
X-Robots-Tag:noindex
X-PUBLISHED-TTL:PT1H
BEGIN:VTIMEZONE
TZID:Europe/London
BEGIN:DAYLIGHT
TZOFFSETFROM:+0000
TZOFFSETTO:+0100
TZNAME:BST
DTSTART:20250330T010000
END:DAYLIGHT
BEGIN:STANDARD
TZOFFSETFROM:+0100
TZOFFSETTO:+0000
TZNAME:GMT
DTSTART:20251026T010000
END:STANDARD
BEGIN:DAYLIGHT
TZOFFSETFROM:+0000
TZOFFSETTO:+0100
TZNAME:BST
DTSTART:20260329T010000
END:DAYLIGHT
BEGIN:STANDARD
TZOFFSETFROM:+0100
TZOFFSETTO:+0000
TZNAME:GMT
DTSTART:20261025T010000
END:STANDARD
BEGIN:DAYLIGHT
TZOFFSETFROM:+0000
TZOFFSETTO:+0100
TZNAME:BST
DTSTART:20270328T010000
END:DAYLIGHT
BEGIN:STANDARD
TZOFFSETFROM:+0100
TZOFFSETTO:+0000
TZNAME:GMT
DTSTART:20271031T010000
END:STANDARD
END:VTIMEZONE
BEGIN:VEVENT
DTSTART;TZID=Europe/London:20260426T020000
DTEND;TZID=Europe/London:20260426T173000
DTSTAMP:20260421T183929
CREATED:20260421T071312Z
LAST-MODIFIED:20260421T071312Z
UID:7115-1777168800-1777224600@northantsmag.co.uk
SUMMARY:Cottesbrooke Gardens Open
DESCRIPTION:NATIONAL GARDEN SCHEME\nCottesbrooke Gardens Open\nSunday 26th April 2026 from 2.00pm – 5.30pm\nCelebrating 80 years of supporting the NGS
URL:https://northantsmag.co.uk/event/cottesbrooke-gardens-open
LOCATION:Cottesbrooke Hall and Gardens\, Northampton\, NN6 8PF
END:VEVENT
END:VCALENDAR